BEGIN:VCALENDAR
VERSION:2.0
PRODID:-//Dr. Thorsten Schwarz - ECPv6.15.20//NONSGML v1.0//EN
CALSCALE:GREGORIAN
METHOD:PUBLISH
X-ORIGINAL-URL:https://www.schwarz-thorsten.de
X-WR-CALDESC:Veranstaltungen für Dr. Thorsten Schwarz
REFRESH-INTERVAL;VALUE=DURATION:PT1H
X-Robots-Tag:noindex
X-PUBLISHED-TTL:PT1H
BEGIN:VTIMEZONE
TZID:Europe/Berlin
BEGIN:DAYLIGHT
TZOFFSETFROM:+0100
TZOFFSETTO:+0200
TZNAME:CEST
DTSTART:20240331T010000
END:DAYLIGHT
BEGIN:STANDARD
TZOFFSETFROM:+0200
TZOFFSETTO:+0100
TZNAME:CET
DTSTART:20241027T010000
END:STANDARD
BEGIN:DAYLIGHT
TZOFFSETFROM:+0100
TZOFFSETTO:+0200
TZNAME:CEST
DTSTART:20250330T010000
END:DAYLIGHT
BEGIN:STANDARD
TZOFFSETFROM:+0200
TZOFFSETTO:+0100
TZNAME:CET
DTSTART:20251026T010000
END:STANDARD
BEGIN:DAYLIGHT
TZOFFSETFROM:+0100
TZOFFSETTO:+0200
TZNAME:CEST
DTSTART:20260329T010000
END:DAYLIGHT
BEGIN:STANDARD
TZOFFSETFROM:+0200
TZOFFSETTO:+0100
TZNAME:CET
DTSTART:20261025T010000
END:STANDARD
END:VTIMEZONE
BEGIN:VEVENT
DTSTART;TZID=Europe/Berlin:20251205T150000
DTEND;TZID=Europe/Berlin:20251206T163000
DTSTAMP:20260421T180046
CREATED:20251203T095730Z
LAST-MODIFIED:20251203T134655Z
UID:727-1764946800-1765038600@www.schwarz-thorsten.de
SUMMARY:CDU Landesparteitag Baden-Württemberg
DESCRIPTION:
URL:https://www.schwarz-thorsten.de/event/cdu-landesparteitag-baden-wuerttemberg/
LOCATION:Congress Center Heidelberg\, Czernyring 20\, Heidelberg\, 69115\, Germany
ATTACH;FMTTYPE=image/png:https://www.schwarz-thorsten.de/wp-content/uploads/2025/12/Bildschirmfoto-2025-12-03-um-14.46.07.png
END:VEVENT
END:VCALENDAR