BEGIN:VCALENDAR
VERSION:2.0
PRODID:-//Dr. Thorsten Schwarz - ECPv6.15.20//NONSGML v1.0//EN
CALSCALE:GREGORIAN
METHOD:PUBLISH
X-WR-CALNAME:Dr. Thorsten Schwarz
X-ORIGINAL-URL:https://www.schwarz-thorsten.de
X-WR-CALDESC:Veranstaltungen für Dr. Thorsten Schwarz
REFRESH-INTERVAL;VALUE=DURATION:PT1H
X-Robots-Tag:noindex
X-PUBLISHED-TTL:PT1H
BEGIN:VTIMEZONE
TZID:Europe/Berlin
BEGIN:DAYLIGHT
TZOFFSETFROM:+0100
TZOFFSETTO:+0200
TZNAME:CEST
DTSTART:20240331T010000
END:DAYLIGHT
BEGIN:STANDARD
TZOFFSETFROM:+0200
TZOFFSETTO:+0100
TZNAME:CET
DTSTART:20241027T010000
END:STANDARD
BEGIN:DAYLIGHT
TZOFFSETFROM:+0100
TZOFFSETTO:+0200
TZNAME:CEST
DTSTART:20250330T010000
END:DAYLIGHT
BEGIN:STANDARD
TZOFFSETFROM:+0200
TZOFFSETTO:+0100
TZNAME:CET
DTSTART:20251026T010000
END:STANDARD
BEGIN:DAYLIGHT
TZOFFSETFROM:+0100
TZOFFSETTO:+0200
TZNAME:CEST
DTSTART:20260329T010000
END:DAYLIGHT
BEGIN:STANDARD
TZOFFSETFROM:+0200
TZOFFSETTO:+0100
TZNAME:CET
DTSTART:20261025T010000
END:STANDARD
END:VTIMEZONE
BEGIN:VEVENT
DTSTART;TZID=Europe/Berlin:20251213T090000
DTEND;TZID=Europe/Berlin:20251213T120000
DTSTAMP:20260421T163844
CREATED:20251203T100246Z
LAST-MODIFIED:20251203T184902Z
UID:734-1765616400-1765627200@www.schwarz-thorsten.de
SUMMARY:Wahlstand am Bruchsaler Markt
DESCRIPTION:
URL:https://www.schwarz-thorsten.de/event/wahlstand-am-bruchsaler-markt/
LOCATION:Markt Bruchsal\, Kaiserstraße\, Bruchsal\, 76646\, Germany
ATTACH;FMTTYPE=image/png:https://www.schwarz-thorsten.de/wp-content/uploads/2025/12/Marktstand.png
END:VEVENT
BEGIN:VEVENT
DTSTART;TZID=Europe/Berlin:20251213T160000
DTEND;TZID=Europe/Berlin:20251213T173000
DTSTAMP:20260421T163844
CREATED:20251203T123425Z
LAST-MODIFIED:20251203T123425Z
UID:757-1765641600-1765647000@www.schwarz-thorsten.de
SUMMARY:Weihnachtsmarkt Hambrücken
DESCRIPTION:
URL:https://www.schwarz-thorsten.de/event/weihnachtsmarkt-hambruecken/
END:VEVENT
BEGIN:VEVENT
DTSTART;TZID=Europe/Berlin:20251213T183000
DTEND;TZID=Europe/Berlin:20251213T230000
DTSTAMP:20260421T163844
CREATED:20251212T174416Z
LAST-MODIFIED:20251212T174416Z
UID:860-1765650600-1765666800@www.schwarz-thorsten.de
SUMMARY:Weihnachten neu erleben - mit Manuel Hagel
DESCRIPTION:
URL:https://www.schwarz-thorsten.de/event/weihnachten-neu-erleben-mit-manuel-hagel/
LOCATION:Karlsruhe DM-Arena\, Messeallee 1\, Karlsruhe\, 76287\, Germany
END:VEVENT
END:VCALENDAR