BEGIN:VCALENDAR
VERSION:2.0
PRODID:-//Dr. Thorsten Schwarz - ECPv6.15.20//NONSGML v1.0//EN
CALSCALE:GREGORIAN
METHOD:PUBLISH
X-ORIGINAL-URL:https://www.schwarz-thorsten.de
X-WR-CALDESC:Veranstaltungen für Dr. Thorsten Schwarz
REFRESH-INTERVAL;VALUE=DURATION:PT1H
X-Robots-Tag:noindex
X-PUBLISHED-TTL:PT1H
BEGIN:VTIMEZONE
TZID:Europe/Berlin
BEGIN:DAYLIGHT
TZOFFSETFROM:+0100
TZOFFSETTO:+0200
TZNAME:CEST
DTSTART:20240331T010000
END:DAYLIGHT
BEGIN:STANDARD
TZOFFSETFROM:+0200
TZOFFSETTO:+0100
TZNAME:CET
DTSTART:20241027T010000
END:STANDARD
BEGIN:DAYLIGHT
TZOFFSETFROM:+0100
TZOFFSETTO:+0200
TZNAME:CEST
DTSTART:20250330T010000
END:DAYLIGHT
BEGIN:STANDARD
TZOFFSETFROM:+0200
TZOFFSETTO:+0100
TZNAME:CET
DTSTART:20251026T010000
END:STANDARD
BEGIN:DAYLIGHT
TZOFFSETFROM:+0100
TZOFFSETTO:+0200
TZNAME:CEST
DTSTART:20260329T010000
END:DAYLIGHT
BEGIN:STANDARD
TZOFFSETFROM:+0200
TZOFFSETTO:+0100
TZNAME:CET
DTSTART:20261025T010000
END:STANDARD
END:VTIMEZONE
BEGIN:VEVENT
DTSTART;TZID=Europe/Berlin:20251219T143000
DTEND;TZID=Europe/Berlin:20251219T160000
DTSTAMP:20260421T164246
CREATED:20251203T124826Z
LAST-MODIFIED:20251203T124826Z
UID:759-1766154600-1766160000@www.schwarz-thorsten.de
SUMMARY:Handwerkskammer Karlsruhe „Handwerk im Gespräch“
DESCRIPTION:
URL:https://www.schwarz-thorsten.de/event/handwerkskammer-karlsruhe-handwerk-im-gespraech/
END:VEVENT
BEGIN:VEVENT
DTSTART;TZID=Europe/Berlin:20251219T160000
DTEND;TZID=Europe/Berlin:20251219T180000
DTSTAMP:20260421T164246
CREATED:20251212T174535Z
LAST-MODIFIED:20251212T174535Z
UID:863-1766160000-1766167200@www.schwarz-thorsten.de
SUMMARY:Mit Manuel Hagel am Friedrichsplatz Karlsruhe
DESCRIPTION:
URL:https://www.schwarz-thorsten.de/event/mit-manuel-hagel-am-friedrichsplatz-karlsruhe/
END:VEVENT
END:VCALENDAR