BEGIN:VCALENDAR
VERSION:2.0
PRODID:-//Dr. Thorsten Schwarz - ECPv6.15.20//NONSGML v1.0//EN
CALSCALE:GREGORIAN
METHOD:PUBLISH
X-WR-CALNAME:Dr. Thorsten Schwarz
X-ORIGINAL-URL:https://www.schwarz-thorsten.de
X-WR-CALDESC:Veranstaltungen für Dr. Thorsten Schwarz
REFRESH-INTERVAL;VALUE=DURATION:PT1H
X-Robots-Tag:noindex
X-PUBLISHED-TTL:PT1H
BEGIN:VTIMEZONE
TZID:Europe/Berlin
BEGIN:DAYLIGHT
TZOFFSETFROM:+0100
TZOFFSETTO:+0200
TZNAME:CEST
DTSTART:20250330T010000
END:DAYLIGHT
BEGIN:STANDARD
TZOFFSETFROM:+0200
TZOFFSETTO:+0100
TZNAME:CET
DTSTART:20251026T010000
END:STANDARD
BEGIN:DAYLIGHT
TZOFFSETFROM:+0100
TZOFFSETTO:+0200
TZNAME:CEST
DTSTART:20260329T010000
END:DAYLIGHT
BEGIN:STANDARD
TZOFFSETFROM:+0200
TZOFFSETTO:+0100
TZNAME:CET
DTSTART:20261025T010000
END:STANDARD
BEGIN:DAYLIGHT
TZOFFSETFROM:+0100
TZOFFSETTO:+0200
TZNAME:CEST
DTSTART:20270328T010000
END:DAYLIGHT
BEGIN:STANDARD
TZOFFSETFROM:+0200
TZOFFSETTO:+0100
TZNAME:CET
DTSTART:20271031T010000
END:STANDARD
END:VTIMEZONE
BEGIN:VEVENT
DTSTART;TZID=Europe/Berlin:20260112T190000
DTEND;TZID=Europe/Berlin:20260112T210000
DTSTAMP:20260421T151341
CREATED:20251203T134139Z
LAST-MODIFIED:20251203T134139Z
UID:787-1768244400-1768251600@www.schwarz-thorsten.de
SUMMARY:Verpflichtung Bürgermeister Gunter Carra in Karlsdorf-Neuthard
DESCRIPTION:
URL:https://www.schwarz-thorsten.de/event/verpflichtung-buergermeister-gunter-carra-in-karlsdorf-neuthard/
END:VEVENT
END:VCALENDAR