BEGIN:VCALENDAR
VERSION:2.0
PRODID:-//Dr. Thorsten Schwarz - ECPv6.15.20//NONSGML v1.0//EN
CALSCALE:GREGORIAN
METHOD:PUBLISH
X-ORIGINAL-URL:https://www.schwarz-thorsten.de
X-WR-CALDESC:Veranstaltungen für Dr. Thorsten Schwarz
REFRESH-INTERVAL;VALUE=DURATION:PT1H
X-Robots-Tag:noindex
X-PUBLISHED-TTL:PT1H
BEGIN:VTIMEZONE
TZID:Europe/Berlin
BEGIN:DAYLIGHT
TZOFFSETFROM:+0100
TZOFFSETTO:+0200
TZNAME:CEST
DTSTART:20250330T010000
END:DAYLIGHT
BEGIN:STANDARD
TZOFFSETFROM:+0200
TZOFFSETTO:+0100
TZNAME:CET
DTSTART:20251026T010000
END:STANDARD
BEGIN:DAYLIGHT
TZOFFSETFROM:+0100
TZOFFSETTO:+0200
TZNAME:CEST
DTSTART:20260329T010000
END:DAYLIGHT
BEGIN:STANDARD
TZOFFSETFROM:+0200
TZOFFSETTO:+0100
TZNAME:CET
DTSTART:20261025T010000
END:STANDARD
BEGIN:DAYLIGHT
TZOFFSETFROM:+0100
TZOFFSETTO:+0200
TZNAME:CEST
DTSTART:20270328T010000
END:DAYLIGHT
BEGIN:STANDARD
TZOFFSETFROM:+0200
TZOFFSETTO:+0100
TZNAME:CET
DTSTART:20271031T010000
END:STANDARD
END:VTIMEZONE
BEGIN:VEVENT
DTSTART;TZID=Europe/Berlin:20260208T120000
DTEND;TZID=Europe/Berlin:20260208T150000
DTSTAMP:20260421T122239
CREATED:20260126T074023Z
LAST-MODIFIED:20260126T074023Z
UID:956-1770552000-1770562800@www.schwarz-thorsten.de
SUMMARY:[14. IT Meetup Bruchsal] Eine Podiumsdiskussion zur Landtagswahl 26
DESCRIPTION:
URL:https://www.schwarz-thorsten.de/event/14-it-meetup-bruchsal-eine-podiumsdiskussion-zur-landtagswahl-26/
END:VEVENT
BEGIN:VEVENT
DTSTART;TZID=Europe/Berlin:20260208T130000
DTEND;TZID=Europe/Berlin:20260208T170000
DTSTAMP:20260421T122239
CREATED:20260126T074055Z
LAST-MODIFIED:20260126T074055Z
UID:958-1770555600-1770570000@www.schwarz-thorsten.de
SUMMARY:Faschingsumzug Bruchsal
DESCRIPTION:
URL:https://www.schwarz-thorsten.de/event/faschingsumzug-bruchsal/
END:VEVENT
END:VCALENDAR