BEGIN:VCALENDAR
VERSION:2.0
PRODID:-//Dr. Thorsten Schwarz - ECPv6.15.20//NONSGML v1.0//EN
CALSCALE:GREGORIAN
METHOD:PUBLISH
X-WR-CALNAME:Dr. Thorsten Schwarz
X-ORIGINAL-URL:https://www.schwarz-thorsten.de
X-WR-CALDESC:Veranstaltungen für Dr. Thorsten Schwarz
REFRESH-INTERVAL;VALUE=DURATION:PT1H
X-Robots-Tag:noindex
X-PUBLISHED-TTL:PT1H
BEGIN:VTIMEZONE
TZID:Europe/Berlin
BEGIN:DAYLIGHT
TZOFFSETFROM:+0100
TZOFFSETTO:+0200
TZNAME:CEST
DTSTART:20250330T010000
END:DAYLIGHT
BEGIN:STANDARD
TZOFFSETFROM:+0200
TZOFFSETTO:+0100
TZNAME:CET
DTSTART:20251026T010000
END:STANDARD
BEGIN:DAYLIGHT
TZOFFSETFROM:+0100
TZOFFSETTO:+0200
TZNAME:CEST
DTSTART:20260329T010000
END:DAYLIGHT
BEGIN:STANDARD
TZOFFSETFROM:+0200
TZOFFSETTO:+0100
TZNAME:CET
DTSTART:20261025T010000
END:STANDARD
BEGIN:DAYLIGHT
TZOFFSETFROM:+0100
TZOFFSETTO:+0200
TZNAME:CEST
DTSTART:20270328T010000
END:DAYLIGHT
BEGIN:STANDARD
TZOFFSETFROM:+0200
TZOFFSETTO:+0100
TZNAME:CET
DTSTART:20271031T010000
END:STANDARD
END:VTIMEZONE
BEGIN:VEVENT
DTSTART;TZID=Europe/Berlin:20260220T090000
DTEND;TZID=Europe/Berlin:20260221T170000
DTSTAMP:20260421T122801
CREATED:20260126T075204Z
LAST-MODIFIED:20260126T075204Z
UID:989-1771578000-1771693200@www.schwarz-thorsten.de
SUMMARY:CDU Bundesparteitag
DESCRIPTION:
URL:https://www.schwarz-thorsten.de/event/cdu-bundesparteitag/
END:VEVENT
END:VCALENDAR