BEGIN:VCALENDAR
VERSION:2.0
PRODID:-//Dr. Thorsten Schwarz - ECPv6.15.20//NONSGML v1.0//EN
CALSCALE:GREGORIAN
METHOD:PUBLISH
X-WR-CALNAME:Dr. Thorsten Schwarz
X-ORIGINAL-URL:https://www.schwarz-thorsten.de
X-WR-CALDESC:Veranstaltungen für Dr. Thorsten Schwarz
REFRESH-INTERVAL;VALUE=DURATION:PT1H
X-Robots-Tag:noindex
X-PUBLISHED-TTL:PT1H
BEGIN:VTIMEZONE
TZID:Europe/Berlin
BEGIN:DAYLIGHT
TZOFFSETFROM:+0100
TZOFFSETTO:+0200
TZNAME:CEST
DTSTART:20250330T010000
END:DAYLIGHT
BEGIN:STANDARD
TZOFFSETFROM:+0200
TZOFFSETTO:+0100
TZNAME:CET
DTSTART:20251026T010000
END:STANDARD
BEGIN:DAYLIGHT
TZOFFSETFROM:+0100
TZOFFSETTO:+0200
TZNAME:CEST
DTSTART:20260329T010000
END:DAYLIGHT
BEGIN:STANDARD
TZOFFSETFROM:+0200
TZOFFSETTO:+0100
TZNAME:CET
DTSTART:20261025T010000
END:STANDARD
BEGIN:DAYLIGHT
TZOFFSETFROM:+0100
TZOFFSETTO:+0200
TZNAME:CEST
DTSTART:20270328T010000
END:DAYLIGHT
BEGIN:STANDARD
TZOFFSETFROM:+0200
TZOFFSETTO:+0100
TZNAME:CET
DTSTART:20271031T010000
END:STANDARD
END:VTIMEZONE
BEGIN:VEVENT
DTSTART;TZID=Europe/Berlin:20260226T130000
DTEND;TZID=Europe/Berlin:20260226T150000
DTSTAMP:20260421T110104
CREATED:20260126T075405Z
LAST-MODIFIED:20260215T094210Z
UID:994-1772110800-1772118000@www.schwarz-thorsten.de
SUMMARY:Podiumsdiskussion BNS1
DESCRIPTION:
URL:https://www.schwarz-thorsten.de/event/podiumsdiskussion-bns1/
END:VEVENT
BEGIN:VEVENT
DTSTART;TZID=Europe/Berlin:20260226T163000
DTEND;TZID=Europe/Berlin:20260226T180000
DTSTAMP:20260421T110104
CREATED:20260222T114843Z
LAST-MODIFIED:20260222T114843Z
UID:1098-1772123400-1772128800@www.schwarz-thorsten.de
SUMMARY:Wahlstand Büchenau - Bäckerei Thollembeek
DESCRIPTION:
URL:https://www.schwarz-thorsten.de/event/wahlstand-buechenau-baeckerei-thollembeek/
END:VEVENT
END:VCALENDAR