BEGIN:VCALENDAR
VERSION:2.0
PRODID:-//Dr. Thorsten Schwarz - ECPv6.15.20//NONSGML v1.0//EN
CALSCALE:GREGORIAN
METHOD:PUBLISH
X-WR-CALNAME:Dr. Thorsten Schwarz
X-ORIGINAL-URL:https://www.schwarz-thorsten.de
X-WR-CALDESC:Veranstaltungen für Dr. Thorsten Schwarz
REFRESH-INTERVAL;VALUE=DURATION:PT1H
X-Robots-Tag:noindex
X-PUBLISHED-TTL:PT1H
BEGIN:VTIMEZONE
TZID:Europe/Berlin
BEGIN:DAYLIGHT
TZOFFSETFROM:+0100
TZOFFSETTO:+0200
TZNAME:CEST
DTSTART:20250330T010000
END:DAYLIGHT
BEGIN:STANDARD
TZOFFSETFROM:+0200
TZOFFSETTO:+0100
TZNAME:CET
DTSTART:20251026T010000
END:STANDARD
BEGIN:DAYLIGHT
TZOFFSETFROM:+0100
TZOFFSETTO:+0200
TZNAME:CEST
DTSTART:20260329T010000
END:DAYLIGHT
BEGIN:STANDARD
TZOFFSETFROM:+0200
TZOFFSETTO:+0100
TZNAME:CET
DTSTART:20261025T010000
END:STANDARD
BEGIN:DAYLIGHT
TZOFFSETFROM:+0100
TZOFFSETTO:+0200
TZNAME:CEST
DTSTART:20270328T010000
END:DAYLIGHT
BEGIN:STANDARD
TZOFFSETFROM:+0200
TZOFFSETTO:+0100
TZNAME:CET
DTSTART:20271031T010000
END:STANDARD
END:VTIMEZONE
BEGIN:VEVENT
DTSTART;TZID=Europe/Berlin:20260103T140000
DTEND;TZID=Europe/Berlin:20260103T170000
DTSTAMP:20260421T134125
CREATED:20251203T133122Z
LAST-MODIFIED:20251203T133122Z
UID:766-1767448800-1767459600@www.schwarz-thorsten.de
SUMMARY:CDU Hambrücken Winterwanderung
DESCRIPTION:
URL:https://www.schwarz-thorsten.de/event/cdu-hambruecken-winterwanderung/
END:VEVENT
BEGIN:VEVENT
DTSTART;TZID=Europe/Berlin:20260104T110000
DTEND;TZID=Europe/Berlin:20260104T150000
DTSTAMP:20260421T134125
CREATED:20251208T112130Z
LAST-MODIFIED:20251216T163556Z
UID:844-1767524400-1767538800@www.schwarz-thorsten.de
SUMMARY:Neujahrsgrillen in Kronau
DESCRIPTION:
URL:https://www.schwarz-thorsten.de/event/neujahrsgrillen-in-kronau/
LOCATION:Forsthof Kronau\, Kirrlacher Str. 11\, Kronau\, 76709\, Germany
ATTACH;FMTTYPE=image/jpeg:https://www.schwarz-thorsten.de/wp-content/uploads/2025/12/PHOTO-2025-12-15-10-05-41.jpg
END:VEVENT
BEGIN:VEVENT
DTSTART;TZID=Europe/Berlin:20260105T190000
DTEND;TZID=Europe/Berlin:20260105T210000
DTSTAMP:20260421T134125
CREATED:20251203T133742Z
LAST-MODIFIED:20251203T133742Z
UID:774-1767639600-1767646800@www.schwarz-thorsten.de
SUMMARY:CDU Stadtverband Bruchsal Vorstandssitzung
DESCRIPTION:
URL:https://www.schwarz-thorsten.de/event/cdu-stadtverband-bruchsal-vorstandssitzung/
END:VEVENT
BEGIN:VEVENT
DTSTART;TZID=Europe/Berlin:20260108T180000
DTEND;TZID=Europe/Berlin:20260108T200000
DTSTAMP:20260421T134125
CREATED:20251203T133820Z
LAST-MODIFIED:20251203T133820Z
UID:776-1767895200-1767902400@www.schwarz-thorsten.de
SUMMARY:JU Karlsruhe-Land Wahlkampfauftakt
DESCRIPTION:
URL:https://www.schwarz-thorsten.de/event/ju-karlsruhe-land-wahlkampfauftakt/
END:VEVENT
BEGIN:VEVENT
DTSTART;TZID=Europe/Berlin:20260109T180000
DTEND;TZID=Europe/Berlin:20260109T193000
DTSTAMP:20260421T134125
CREATED:20260109T064330Z
LAST-MODIFIED:20260109T064330Z
UID:896-1767981600-1767987000@www.schwarz-thorsten.de
SUMMARY:Neujahrsempfang Philippsburg
DESCRIPTION:
URL:https://www.schwarz-thorsten.de/event/neujahrsempfang-philippsburg/
END:VEVENT
BEGIN:VEVENT
DTSTART;TZID=Europe/Berlin:20260109T193000
DTEND;TZID=Europe/Berlin:20260109T220000
DTSTAMP:20260421T134125
CREATED:20260109T064355Z
LAST-MODIFIED:20260109T064355Z
UID:898-1767987000-1767996000@www.schwarz-thorsten.de
SUMMARY:Neujahrsempfang Hambrücken
DESCRIPTION:
URL:https://www.schwarz-thorsten.de/event/neujahrsempfang-hambruecken/
END:VEVENT
BEGIN:VEVENT
DTSTART;TZID=Europe/Berlin:20260110T090000
DTEND;TZID=Europe/Berlin:20260110T120000
DTSTAMP:20260421T134125
CREATED:20251203T133853Z
LAST-MODIFIED:20251203T184808Z
UID:778-1768035600-1768046400@www.schwarz-thorsten.de
SUMMARY:Wahlstand am Bruchsaler Markt
DESCRIPTION:
URL:https://www.schwarz-thorsten.de/event/wahlstand-am-bruchsaler-markt-2/
LOCATION:Markt Bruchsal\, Kaiserstraße\, Bruchsal\, 76646\, Germany
ATTACH;FMTTYPE=image/png:https://www.schwarz-thorsten.de/wp-content/uploads/2025/12/Marktstand.png
END:VEVENT
BEGIN:VEVENT
DTSTART;TZID=Europe/Berlin:20260110T170000
DTEND;TZID=Europe/Berlin:20260110T190000
DTSTAMP:20260421T134125
CREATED:20251230T154636Z
LAST-MODIFIED:20251230T154836Z
UID:878-1768064400-1768071600@www.schwarz-thorsten.de
SUMMARY:Europa trifft Baden-Württemberg! Prof. Dr. Andrea Wechsler zur Zukunft Europas!
DESCRIPTION:Europa gestalten – vor Ort und in Brüssel! ????????\nAm Samstag\, 10. Januar um 17 Uhr kommt Prof. Dr. Andrea Wechsler MdEP zu uns ins Zigarolo nach Waghäusel-Wiesental. Sie vertritt Baden-Württemberg im Europäischen Parlament – mit klarem Fokus auf Wirtschaft\, Wettbewerbsfähigkeit und Innovation.\nGemeinsam wollen wir über die Zukunft Baden-Württembergs in Europa sprechen: Welche Weichen müssen wir jetzt stellen? Wie sichern wir Wohlstand und Arbeitsplätze? Wie bleiben wir innovativ und stark? \nKommt vorbei\, bringt Eure Fragen mit und diskutiert mit! Europa braucht starke Stimmen aus unserer Region.\nWir freuen uns auf Euch! \n???? Samstag\, 10. Januar 2026\, 17 Uhr\n???? Zigarolo\, Waghäusel-Wiesental\, Wagbachstraße 20a \n#CDUBW #Europa #Waghäusel #AndreaWechsler #Europaparlament #BadenWürttemberg #Wettbewerbsfähigkeit #Zukunft #CDU
URL:https://www.schwarz-thorsten.de/event/europa-trifft-baden-wuerttemberg-prof-dr-andrea-wechsler-zur-zukunft-europas/
LOCATION:Zigarolo\, Wagbachstraße 20a\, Waghäusel-Wiesental\, 68753\, Germany
ATTACH;FMTTYPE=image/png:https://www.schwarz-thorsten.de/wp-content/uploads/2025/12/Veranstaltung_mit_Andrea_Wechsler.png
END:VEVENT
BEGIN:VEVENT
DTSTART;TZID=Europe/Berlin:20260111T103000
DTEND;TZID=Europe/Berlin:20260111T123000
DTSTAMP:20260421T134125
CREATED:20251203T134054Z
LAST-MODIFIED:20251203T134054Z
UID:785-1768127400-1768134600@www.schwarz-thorsten.de
SUMMARY:Jubiläums-Veranstaltung TV Oberhausen e.V.
DESCRIPTION:
URL:https://www.schwarz-thorsten.de/event/jubilaeums-veranstaltung-tv-oberhausen-e-v/
END:VEVENT
BEGIN:VEVENT
DTSTART;TZID=Europe/Berlin:20260112T190000
DTEND;TZID=Europe/Berlin:20260112T210000
DTSTAMP:20260421T134125
CREATED:20251203T134139Z
LAST-MODIFIED:20251203T134139Z
UID:787-1768244400-1768251600@www.schwarz-thorsten.de
SUMMARY:Verpflichtung Bürgermeister Gunter Carra in Karlsdorf-Neuthard
DESCRIPTION:
URL:https://www.schwarz-thorsten.de/event/verpflichtung-buergermeister-gunter-carra-in-karlsdorf-neuthard/
END:VEVENT
BEGIN:VEVENT
DTSTART;TZID=Europe/Berlin:20260113T193000
DTEND;TZID=Europe/Berlin:20260113T213000
DTSTAMP:20260421T134125
CREATED:20251203T134206Z
LAST-MODIFIED:20251203T134206Z
UID:789-1768332600-1768339800@www.schwarz-thorsten.de
SUMMARY:Vorstandssitzung CDU Kronau
DESCRIPTION:
URL:https://www.schwarz-thorsten.de/event/vorstandssitzung-cdu-kronau/
END:VEVENT
BEGIN:VEVENT
DTSTART;TZID=Europe/Berlin:20260114T193000
DTEND;TZID=Europe/Berlin:20260114T220000
DTSTAMP:20260421T134125
CREATED:20260114T061148Z
LAST-MODIFIED:20260114T061148Z
UID:923-1768419000-1768428000@www.schwarz-thorsten.de
SUMMARY:Jahreshauptversammlung CDU Karlsdorf-Neuthard
DESCRIPTION:
URL:https://www.schwarz-thorsten.de/event/jahreshauptversammlung-cdu-karlsdorf-neuthard/
END:VEVENT
BEGIN:VEVENT
DTSTART;TZID=Europe/Berlin:20260115T170000
DTEND;TZID=Europe/Berlin:20260115T200000
DTSTAMP:20260421T134125
CREATED:20251203T134240Z
LAST-MODIFIED:20251203T134240Z
UID:791-1768496400-1768507200@www.schwarz-thorsten.de
SUMMARY:CDU Kreisparteitag Karlsruhe-Land
DESCRIPTION:
URL:https://www.schwarz-thorsten.de/event/cdu-kreisparteitag-karlsruhe-land/
END:VEVENT
BEGIN:VEVENT
DTSTART;TZID=Europe/Berlin:20260116T180000
DTEND;TZID=Europe/Berlin:20260116T200000
DTSTAMP:20260421T134125
CREATED:20251203T133433Z
LAST-MODIFIED:20251222T074253Z
UID:768-1768586400-1768593600@www.schwarz-thorsten.de
SUMMARY:Treffen. Fragen. Austauschen.  ... in Heidelsheim
DESCRIPTION:
URL:https://www.schwarz-thorsten.de/event/angrillen-cdu-wahlkreis-bruchsal-in-kronau/
LOCATION:Heidelsheim 01\, Am Stadion 1\, Bruchsal-Heidelsheim\, 76646
ATTACH;FMTTYPE=image/png:https://www.schwarz-thorsten.de/wp-content/uploads/2025/12/Treffen.-Fragen.-Austauschen-e1766389353827.png
END:VEVENT
BEGIN:VEVENT
DTSTART;TZID=Europe/Berlin:20260116T190000
DTEND;TZID=Europe/Berlin:20260116T220000
DTSTAMP:20260421T134125
CREATED:20260114T061245Z
LAST-MODIFIED:20260114T061245Z
UID:925-1768590000-1768600800@www.schwarz-thorsten.de
SUMMARY:Neujahrsempfang Ubstadt-Weiher
DESCRIPTION:
URL:https://www.schwarz-thorsten.de/event/neujahrsempfang-ubstadt-weiher/
END:VEVENT
BEGIN:VEVENT
DTSTART;TZID=Europe/Berlin:20260117T090000
DTEND;TZID=Europe/Berlin:20260117T120000
DTSTAMP:20260421T134125
CREATED:20251203T133917Z
LAST-MODIFIED:20251203T184746Z
UID:780-1768640400-1768651200@www.schwarz-thorsten.de
SUMMARY:Wahlstand am Bruchsaler Markt
DESCRIPTION:
URL:https://www.schwarz-thorsten.de/event/wahlstand-am-bruchsaler-markt-3/
LOCATION:Markt Bruchsal\, Kaiserstraße\, Bruchsal\, 76646\, Germany
ATTACH;FMTTYPE=image/png:https://www.schwarz-thorsten.de/wp-content/uploads/2025/12/Marktstand.png
END:VEVENT
BEGIN:VEVENT
DTSTART;TZID=Europe/Berlin:20260117T180000
DTEND;TZID=Europe/Berlin:20260117T200000
DTSTAMP:20260421T134125
CREATED:20260109T064645Z
LAST-MODIFIED:20260109T064645Z
UID:900-1768672800-1768680000@www.schwarz-thorsten.de
SUMMARY:Ehrenabend der CDU Ubstadt-Weiher
DESCRIPTION:
URL:https://www.schwarz-thorsten.de/event/ehrenabend-der-cdu-ubstadt-weiher/
ATTACH;FMTTYPE=image/jpeg:https://www.schwarz-thorsten.de/wp-content/uploads/2026/01/612686316_1310418011125708_5788563116694575274_n.jpg
END:VEVENT
BEGIN:VEVENT
DTSTART;TZID=Europe/Berlin:20260118T100000
DTEND;TZID=Europe/Berlin:20260118T133000
DTSTAMP:20260421T134125
CREATED:20260109T064728Z
LAST-MODIFIED:20260109T064728Z
UID:903-1768730400-1768743000@www.schwarz-thorsten.de
SUMMARY:Jahresempfang DIF Dialog & Freundschaft - Integrationsverein
DESCRIPTION:
URL:https://www.schwarz-thorsten.de/event/jahresempfang-dif-dialog-freundschaft-integrationsverein/
END:VEVENT
BEGIN:VEVENT
DTSTART;TZID=Europe/Berlin:20260118T150000
DTEND;TZID=Europe/Berlin:20260118T170000
DTSTAMP:20260421T134125
CREATED:20260109T064756Z
LAST-MODIFIED:20260109T064756Z
UID:905-1768748400-1768755600@www.schwarz-thorsten.de
SUMMARY:Neujahrsempfang Forst
DESCRIPTION:
URL:https://www.schwarz-thorsten.de/event/neujahrsempfang-forst/
END:VEVENT
BEGIN:VEVENT
DTSTART;TZID=Europe/Berlin:20260118T170000
DTEND;TZID=Europe/Berlin:20260118T220000
DTSTAMP:20260421T134125
CREATED:20260109T064835Z
LAST-MODIFIED:20260109T064835Z
UID:907-1768755600-1768773600@www.schwarz-thorsten.de
SUMMARY:KG Trommlerpreis Philippsburg
DESCRIPTION:
URL:https://www.schwarz-thorsten.de/event/kg-trommlerpreis-philippsburg/
END:VEVENT
BEGIN:VEVENT
DTSTART;TZID=Europe/Berlin:20260119T190000
DTEND;TZID=Europe/Berlin:20260119T210000
DTSTAMP:20260421T134125
CREATED:20260114T061333Z
LAST-MODIFIED:20260114T061333Z
UID:927-1768849200-1768856400@www.schwarz-thorsten.de
SUMMARY:Ortschaftsrat Büchenau
DESCRIPTION:
URL:https://www.schwarz-thorsten.de/event/ortschaftsrat-buechenau/
END:VEVENT
BEGIN:VEVENT
DTSTART;TZID=Europe/Berlin:20260120T190000
DTEND;TZID=Europe/Berlin:20260120T220000
DTSTAMP:20260421T134125
CREATED:20260109T065013Z
LAST-MODIFIED:20260109T065013Z
UID:909-1768935600-1768946400@www.schwarz-thorsten.de
SUMMARY:Neujahrsempfang des Wirtschaftsrates Baden-Württemberg 2026
DESCRIPTION:
URL:https://www.schwarz-thorsten.de/event/neujahrsempfang-des-wirtschaftsrates-baden-wuerttemberg-2026/
END:VEVENT
BEGIN:VEVENT
DTSTART;TZID=Europe/Berlin:20260122T193000
DTEND;TZID=Europe/Berlin:20260122T213000
DTSTAMP:20260421T134125
CREATED:20260109T065050Z
LAST-MODIFIED:20260109T065050Z
UID:911-1769110200-1769117400@www.schwarz-thorsten.de
SUMMARY:CDU Kreisvorstandssitzung
DESCRIPTION:
URL:https://www.schwarz-thorsten.de/event/cdu-kreisvorstandssitzung/
END:VEVENT
BEGIN:VEVENT
DTSTART;TZID=Europe/Berlin:20260123T090000
DTEND;TZID=Europe/Berlin:20260124T140000
DTSTAMP:20260421T134125
CREATED:20260109T065127Z
LAST-MODIFIED:20260109T065127Z
UID:913-1769158800-1769263200@www.schwarz-thorsten.de
SUMMARY:3. Kandidaten-Bootcamp / Landtagsfraktions-Klausurtagung
DESCRIPTION:
URL:https://www.schwarz-thorsten.de/event/3-kandidaten-bootcamp-landtagsfraktions-klausurtagung/
END:VEVENT
BEGIN:VEVENT
DTSTART;TZID=Europe/Berlin:20260124T090000
DTEND;TZID=Europe/Berlin:20260124T120000
DTSTAMP:20260421T134125
CREATED:20251203T133942Z
LAST-MODIFIED:20251203T184716Z
UID:782-1769245200-1769256000@www.schwarz-thorsten.de
SUMMARY:Wahlstand am Bruchsaler Markt
DESCRIPTION:
URL:https://www.schwarz-thorsten.de/event/wahlstand-am-bruchsaler-markt-4/
LOCATION:Markt Bruchsal\, Kaiserstraße\, Bruchsal\, 76646\, Germany
ATTACH;FMTTYPE=image/png:https://www.schwarz-thorsten.de/wp-content/uploads/2025/12/Marktstand.png
END:VEVENT
BEGIN:VEVENT
DTSTART;TZID=Europe/Berlin:20260126T080000
DTEND;TZID=Europe/Berlin:20260126T170000
DTSTAMP:20260421T134125
CREATED:20260126T075107Z
LAST-MODIFIED:20260126T075107Z
UID:986-1769414400-1769446800@www.schwarz-thorsten.de
SUMMARY:Politischer Aschermittwoch 2026 CDU Karlsruhe-Land mit Dr. Johann Wadephul MdB
DESCRIPTION:
URL:https://www.schwarz-thorsten.de/event/politischer-aschermittwoch-2026-cdu-karlsruhe-land-mit-dr-johann-wadephul-mdb/
LOCATION:Altenbürghalle\, Altenbürgzentrum 1\, Karlsdorf-Neuthard\, Baden-Württemberg\, 76689
END:VEVENT
BEGIN:VEVENT
DTSTART;TZID=Europe/Berlin:20260127T190000
DTEND;TZID=Europe/Berlin:20260127T210000
DTSTAMP:20260421T134125
CREATED:20260126T073611Z
LAST-MODIFIED:20260126T073611Z
UID:943-1769540400-1769547600@www.schwarz-thorsten.de
SUMMARY:CDU Bezirksvorstandssitzung
DESCRIPTION:
URL:https://www.schwarz-thorsten.de/event/cdu-bezirksvorstandssitzung/
END:VEVENT
BEGIN:VEVENT
DTSTART;TZID=Europe/Berlin:20260128T100000
DTEND;TZID=Europe/Berlin:20260128T110000
DTSTAMP:20260421T134125
CREATED:20260126T073640Z
LAST-MODIFIED:20260126T073640Z
UID:945-1769594400-1769598000@www.schwarz-thorsten.de
SUMMARY:Baden-TV Kandidatencheck
DESCRIPTION:
URL:https://www.schwarz-thorsten.de/event/baden-tv-kandidatencheck/
END:VEVENT
BEGIN:VEVENT
DTSTART;TZID=Europe/Berlin:20260131T090000
DTEND;TZID=Europe/Berlin:20260131T120000
DTSTAMP:20260421T134125
CREATED:20260126T073535Z
LAST-MODIFIED:20260126T073535Z
UID:941-1769850000-1769860800@www.schwarz-thorsten.de
SUMMARY:Wahlstand am Bruchsaler Markt
DESCRIPTION:
URL:https://www.schwarz-thorsten.de/event/wahlstand-am-bruchsaler-markt-5/
LOCATION:Markt Bruchsal\, Kaiserstraße\, Bruchsal\, 76646\, Germany
ATTACH;FMTTYPE=image/png:https://www.schwarz-thorsten.de/wp-content/uploads/2025/12/Marktstand.png
END:VEVENT
BEGIN:VEVENT
DTSTART;TZID=Europe/Berlin:20260131T180000
DTEND;TZID=Europe/Berlin:20260131T233000
DTSTAMP:20260421T134125
CREATED:20260126T073728Z
LAST-MODIFIED:20260126T073728Z
UID:947-1769882400-1769902200@www.schwarz-thorsten.de
SUMMARY:Prunksitzung BKG-Büchenau
DESCRIPTION:
URL:https://www.schwarz-thorsten.de/event/prunksitzung-bkg-buechenau/
END:VEVENT
END:VCALENDAR