BEGIN:VCALENDAR
VERSION:2.0
PRODID:-//Dr. Thorsten Schwarz - ECPv6.15.20//NONSGML v1.0//EN
CALSCALE:GREGORIAN
METHOD:PUBLISH
X-ORIGINAL-URL:https://www.schwarz-thorsten.de
X-WR-CALDESC:Veranstaltungen für Dr. Thorsten Schwarz
REFRESH-INTERVAL;VALUE=DURATION:PT1H
X-Robots-Tag:noindex
X-PUBLISHED-TTL:PT1H
BEGIN:VTIMEZONE
TZID:Europe/Berlin
BEGIN:DAYLIGHT
TZOFFSETFROM:+0100
TZOFFSETTO:+0200
TZNAME:CEST
DTSTART:20250330T010000
END:DAYLIGHT
BEGIN:STANDARD
TZOFFSETFROM:+0200
TZOFFSETTO:+0100
TZNAME:CET
DTSTART:20251026T010000
END:STANDARD
BEGIN:DAYLIGHT
TZOFFSETFROM:+0100
TZOFFSETTO:+0200
TZNAME:CEST
DTSTART:20260329T010000
END:DAYLIGHT
BEGIN:STANDARD
TZOFFSETFROM:+0200
TZOFFSETTO:+0100
TZNAME:CET
DTSTART:20261025T010000
END:STANDARD
BEGIN:DAYLIGHT
TZOFFSETFROM:+0100
TZOFFSETTO:+0200
TZNAME:CEST
DTSTART:20270328T010000
END:DAYLIGHT
BEGIN:STANDARD
TZOFFSETFROM:+0200
TZOFFSETTO:+0100
TZNAME:CET
DTSTART:20271031T010000
END:STANDARD
END:VTIMEZONE
BEGIN:VEVENT
DTSTART;TZID=Europe/Berlin:20260202T190000
DTEND;TZID=Europe/Berlin:20260202T220000
DTSTAMP:20260421T110421
CREATED:20260202T065415Z
LAST-MODIFIED:20260202T065415Z
UID:1031-1770058800-1770069600@www.schwarz-thorsten.de
SUMMARY:CDU Philippsburg Vorstandssitzung
DESCRIPTION:
URL:https://www.schwarz-thorsten.de/event/cdu-philippsburg-vorstandssitzung/
END:VEVENT
BEGIN:VEVENT
DTSTART;TZID=Europe/Berlin:20260205T190000
DTEND;TZID=Europe/Berlin:20260205T210000
DTSTAMP:20260421T110421
CREATED:20260126T073830Z
LAST-MODIFIED:20260126T073830Z
UID:949-1770318000-1770325200@www.schwarz-thorsten.de
SUMMARY:Frauenunion Östringen Austausch
DESCRIPTION:
URL:https://www.schwarz-thorsten.de/event/frauenunion-oestringen-austausch/
END:VEVENT
BEGIN:VEVENT
DTSTART;TZID=Europe/Berlin:20260206T180000
DTEND;TZID=Europe/Berlin:20260206T233000
DTSTAMP:20260421T110421
CREATED:20260202T065507Z
LAST-MODIFIED:20260202T065507Z
UID:1033-1770400800-1770420600@www.schwarz-thorsten.de
SUMMARY:Prunksitzung Obergrombach
DESCRIPTION:
URL:https://www.schwarz-thorsten.de/event/prunksitzung-obergrombach/
END:VEVENT
BEGIN:VEVENT
DTSTART;TZID=Europe/Berlin:20260207T090000
DTEND;TZID=Europe/Berlin:20260207T120000
DTSTAMP:20260421T110421
CREATED:20260126T073913Z
LAST-MODIFIED:20260126T073913Z
UID:952-1770454800-1770465600@www.schwarz-thorsten.de
SUMMARY:Wahlstand am Bruchsaler Markt
DESCRIPTION:
URL:https://www.schwarz-thorsten.de/event/wahlstand-am-bruchsaler-markt-6/
ATTACH;FMTTYPE=image/png:https://www.schwarz-thorsten.de/wp-content/uploads/2025/12/Marktstand.png
END:VEVENT
BEGIN:VEVENT
DTSTART;TZID=Europe/Berlin:20260207T180000
DTEND;TZID=Europe/Berlin:20260207T233000
DTSTAMP:20260421T110421
CREATED:20260126T073947Z
LAST-MODIFIED:20260126T073947Z
UID:954-1770487200-1770507000@www.schwarz-thorsten.de
SUMMARY:Prunksitzung Waghäusel
DESCRIPTION:
URL:https://www.schwarz-thorsten.de/event/prunksitzung-waghaeusel/
END:VEVENT
BEGIN:VEVENT
DTSTART;TZID=Europe/Berlin:20260208T120000
DTEND;TZID=Europe/Berlin:20260208T150000
DTSTAMP:20260421T110421
CREATED:20260126T074023Z
LAST-MODIFIED:20260126T074023Z
UID:956-1770552000-1770562800@www.schwarz-thorsten.de
SUMMARY:[14. IT Meetup Bruchsal] Eine Podiumsdiskussion zur Landtagswahl 26
DESCRIPTION:
URL:https://www.schwarz-thorsten.de/event/14-it-meetup-bruchsal-eine-podiumsdiskussion-zur-landtagswahl-26/
END:VEVENT
BEGIN:VEVENT
DTSTART;TZID=Europe/Berlin:20260208T130000
DTEND;TZID=Europe/Berlin:20260208T170000
DTSTAMP:20260421T110421
CREATED:20260126T074055Z
LAST-MODIFIED:20260126T074055Z
UID:958-1770555600-1770570000@www.schwarz-thorsten.de
SUMMARY:Faschingsumzug Bruchsal
DESCRIPTION:
URL:https://www.schwarz-thorsten.de/event/faschingsumzug-bruchsal/
END:VEVENT
BEGIN:VEVENT
DTSTART;TZID=Europe/Berlin:20260209T180000
DTEND;TZID=Europe/Berlin:20260209T200000
DTSTAMP:20260421T110421
CREATED:20260126T074220Z
LAST-MODIFIED:20260126T074220Z
UID:960-1770660000-1770667200@www.schwarz-thorsten.de
SUMMARY:CDU Bruchsal Neujahrsempfang mit Julia Klöckner
DESCRIPTION:
URL:https://www.schwarz-thorsten.de/event/cdu-bruchsal-neujahrsempfang-mit-julia-kloeckner/
ATTACH;FMTTYPE=image/jpeg:https://www.schwarz-thorsten.de/wp-content/uploads/2026/01/WhatsApp-Image-2026-01-21-at-11.42.01-scaled.jpeg
END:VEVENT
BEGIN:VEVENT
DTSTART;TZID=Europe/Berlin:20260210T190000
DTEND;TZID=Europe/Berlin:20260210T200000
DTSTAMP:20260421T110421
CREATED:20260126T074251Z
LAST-MODIFIED:20260126T074251Z
UID:963-1770750000-1770753600@www.schwarz-thorsten.de
SUMMARY:Ortschaftsrat Büchenau
DESCRIPTION:
URL:https://www.schwarz-thorsten.de/event/ortschaftsrat-buechenau-2/
END:VEVENT
BEGIN:VEVENT
DTSTART;TZID=Europe/Berlin:20260213T180000
DTEND;TZID=Europe/Berlin:20260213T190000
DTSTAMP:20260421T110421
CREATED:20260126T074411Z
LAST-MODIFIED:20260126T074411Z
UID:965-1771005600-1771009200@www.schwarz-thorsten.de
SUMMARY:Rathaussturm BKG Büchenau
DESCRIPTION:
URL:https://www.schwarz-thorsten.de/event/rathaussturm-bkg-buechenau/
END:VEVENT
BEGIN:VEVENT
DTSTART;TZID=Europe/Berlin:20260213T183000
DTEND;TZID=Europe/Berlin:20260213T233000
DTSTAMP:20260421T110421
CREATED:20260126T074434Z
LAST-MODIFIED:20260126T074434Z
UID:967-1771007400-1771025400@www.schwarz-thorsten.de
SUMMARY:Prunksitzung GroKaGe Bruchsal
DESCRIPTION:
URL:https://www.schwarz-thorsten.de/event/prunksitzung-grokage-bruchsal/
END:VEVENT
BEGIN:VEVENT
DTSTART;TZID=Europe/Berlin:20260214T073000
DTEND;TZID=Europe/Berlin:20260214T090000
DTSTAMP:20260421T110421
CREATED:20260126T074516Z
LAST-MODIFIED:20260126T074516Z
UID:969-1771054200-1771059600@www.schwarz-thorsten.de
SUMMARY:Wahlstand Obergrombach
DESCRIPTION:
URL:https://www.schwarz-thorsten.de/event/wahlstand-obergrombach/
END:VEVENT
BEGIN:VEVENT
DTSTART;TZID=Europe/Berlin:20260214T090000
DTEND;TZID=Europe/Berlin:20260214T120000
DTSTAMP:20260421T110421
CREATED:20260126T074558Z
LAST-MODIFIED:20260126T074558Z
UID:972-1771059600-1771070400@www.schwarz-thorsten.de
SUMMARY:Wahlstand am Bruchsaler Markt
DESCRIPTION:
URL:https://www.schwarz-thorsten.de/event/wahlstand-am-bruchsaler-markt-7/
LOCATION:Markt Bruchsal\, Kaiserstraße\, Bruchsal\, 76646\, Germany
ATTACH;FMTTYPE=image/png:https://www.schwarz-thorsten.de/wp-content/uploads/2025/12/Marktstand.png
END:VEVENT
BEGIN:VEVENT
DTSTART;TZID=Europe/Berlin:20260214T133000
DTEND;TZID=Europe/Berlin:20260214T170000
DTSTAMP:20260421T110421
CREATED:20260126T074757Z
LAST-MODIFIED:20260126T074757Z
UID:980-1771075800-1771088400@www.schwarz-thorsten.de
SUMMARY:Faschingsumzug Philippsburg
DESCRIPTION:
URL:https://www.schwarz-thorsten.de/event/faschingsumzug-philippsburg/
END:VEVENT
BEGIN:VEVENT
DTSTART;TZID=Europe/Berlin:20260215T140000
DTEND;TZID=Europe/Berlin:20260215T170000
DTSTAMP:20260421T110421
CREATED:20260215T093536Z
LAST-MODIFIED:20260215T093536Z
UID:1060-1771164000-1771174800@www.schwarz-thorsten.de
SUMMARY:Faschingsumzug Karlsdorf
DESCRIPTION:
URL:https://www.schwarz-thorsten.de/event/faschingsumzug-karlsdorf/
END:VEVENT
BEGIN:VEVENT
DTSTART;TZID=Europe/Berlin:20260216T090000
DTEND;TZID=Europe/Berlin:20260216T120000
DTSTAMP:20260421T110421
CREATED:20260215T092552Z
LAST-MODIFIED:20260215T092552Z
UID:1052-1771232400-1771243200@www.schwarz-thorsten.de
SUMMARY:Wahlstand Punkt Apotheke Bruchsal-Südstadt
DESCRIPTION:
URL:https://www.schwarz-thorsten.de/event/wahlstand-punkt-apotheke-bruchsal-suedstadt/
END:VEVENT
BEGIN:VEVENT
DTSTART;TZID=Europe/Berlin:20260217T140000
DTEND;TZID=Europe/Berlin:20260217T170000
DTSTAMP:20260421T110421
CREATED:20260215T093621Z
LAST-MODIFIED:20260215T093621Z
UID:1062-1771336800-1771347600@www.schwarz-thorsten.de
SUMMARY:Faschingsumzug Büchenau
DESCRIPTION:
URL:https://www.schwarz-thorsten.de/event/faschingsumzug-buechenau-2/
END:VEVENT
BEGIN:VEVENT
DTSTART;TZID=Europe/Berlin:20260217T140000
DTEND;TZID=Europe/Berlin:20260217T180000
DTSTAMP:20260421T110421
CREATED:20260126T074840Z
LAST-MODIFIED:20260126T074840Z
UID:982-1771336800-1771351200@www.schwarz-thorsten.de
SUMMARY:Faschingsumzug Büchenau
DESCRIPTION:
URL:https://www.schwarz-thorsten.de/event/faschingsumzug-buechenau/
END:VEVENT
BEGIN:VEVENT
DTSTART;TZID=Europe/Berlin:20260218T093000
DTEND;TZID=Europe/Berlin:20260218T123000
DTSTAMP:20260421T110421
CREATED:20260126T074908Z
LAST-MODIFIED:20260126T074908Z
UID:984-1771407000-1771417800@www.schwarz-thorsten.de
SUMMARY:Politischer Aschermittwoch 2026 Fellbach
DESCRIPTION:
URL:https://www.schwarz-thorsten.de/event/politischer-aschermittwoch-2026-fellbach/
END:VEVENT
BEGIN:VEVENT
DTSTART;TZID=Europe/Berlin:20260218T180000
DTEND;TZID=Europe/Berlin:20260218T210000
DTSTAMP:20260421T110421
CREATED:20260215T092915Z
LAST-MODIFIED:20260215T092915Z
UID:1054-1771437600-1771448400@www.schwarz-thorsten.de
SUMMARY:Politischer Aschermittwoch mit Dr. Johann Wadephul MdB
DESCRIPTION:
URL:https://www.schwarz-thorsten.de/event/politischer-aschermittwoch-mit-dr-johann-wadephul-mdb/
ATTACH;FMTTYPE=image/png:https://www.schwarz-thorsten.de/wp-content/uploads/2026/02/Bildschirmfoto-2026-02-15-um-10.27.05.png
END:VEVENT
BEGIN:VEVENT
DTSTART;TZID=Europe/Berlin:20260219T180000
DTEND;TZID=Europe/Berlin:20260219T200000
DTSTAMP:20260421T110421
CREATED:20260215T093228Z
LAST-MODIFIED:20260215T093409Z
UID:1057-1771524000-1771531200@www.schwarz-thorsten.de
SUMMARY:Gespräch mit Bundeslandwirtschaftsminister Alois Rainer MdB
DESCRIPTION:„Du bist was Du isst?! Für die regionale Landwirtschaft im Land“ \n\nUnsere Landwirte leisten Enormes – sie produzieren hochwertige regionale Lebensmittel und erhalten unsere Kulturlandschaft. Gleichzeitig stehen sie unter massivem Druck: steigende Kosten\, internationale Konkurrenz\, Bürokratie. \n\n\n\nWie schaffen wir verlässliche Perspektiven? Welche Weichen müssen EU\, Bund und Länder jetzt stellen? \n\n\n\nBundeslandwirtschaftsminister Alois Rainer MdB kommt dazu nach Hockenheim. \n\n\n\n???? Donnerstag\, 19. Februar 2026\, 18:00 Uhr\n???? Johanneshof Hockenheim\, Seewaldsiedlung 5 \n\n\n\nNach einem Impuls des Ministers gibt es Raum für Austausch und Fragen. \n\n\n\nAnmeldung:\n???? 0711 20638310\n???? kontakt@andreas-sturm.com
URL:https://www.schwarz-thorsten.de/event/gespraech-mit-bundeslandwirtschaftsminister-alois-rainer-mdb/
ATTACH;FMTTYPE=image/png:https://www.schwarz-thorsten.de/wp-content/uploads/2026/02/Bildschirmfoto-2026-02-15-um-10.29.59.png
END:VEVENT
BEGIN:VEVENT
DTSTART;TZID=Europe/Berlin:20260220T090000
DTEND;TZID=Europe/Berlin:20260221T170000
DTSTAMP:20260421T110421
CREATED:20260126T075204Z
LAST-MODIFIED:20260126T075204Z
UID:989-1771578000-1771693200@www.schwarz-thorsten.de
SUMMARY:CDU Bundesparteitag
DESCRIPTION:
URL:https://www.schwarz-thorsten.de/event/cdu-bundesparteitag/
END:VEVENT
BEGIN:VEVENT
DTSTART;TZID=Europe/Berlin:20260221T083000
DTEND;TZID=Europe/Berlin:20260221T113000
DTSTAMP:20260421T110421
CREATED:20260215T093716Z
LAST-MODIFIED:20260215T093716Z
UID:1064-1771662600-1771673400@www.schwarz-thorsten.de
SUMMARY:Wahlstand Wiesental und Kirrlach (Bäckerei Görtz)
DESCRIPTION:
URL:https://www.schwarz-thorsten.de/event/wahlstand-wiesental-und-kirrlach-baeckerei-goertz/
END:VEVENT
BEGIN:VEVENT
DTSTART;TZID=Europe/Berlin:20260221T090000
DTEND;TZID=Europe/Berlin:20260221T120000
DTSTAMP:20260421T110421
CREATED:20260126T074624Z
LAST-MODIFIED:20260126T074624Z
UID:974-1771664400-1771675200@www.schwarz-thorsten.de
SUMMARY:Wahlstand am Bruchsaler Markt
DESCRIPTION:
URL:https://www.schwarz-thorsten.de/event/wahlstand-am-bruchsaler-markt-8/
ATTACH;FMTTYPE=image/png:https://www.schwarz-thorsten.de/wp-content/uploads/2025/12/Marktstand.png
END:VEVENT
BEGIN:VEVENT
DTSTART;TZID=Europe/Berlin:20260224T190000
DTEND;TZID=Europe/Berlin:20260224T210000
DTSTAMP:20260421T110421
CREATED:20260126T075337Z
LAST-MODIFIED:20260126T075337Z
UID:991-1771959600-1771966800@www.schwarz-thorsten.de
SUMMARY:Lesung Peter Tauber
DESCRIPTION:
URL:https://www.schwarz-thorsten.de/event/lesung-peter-tauber/
LOCATION:Rochusklinik Bad Schönborn\, Kraichgaustraße 14\, Bad Schönborn\, Baden-Württemberg\, 76669\, Germany
END:VEVENT
BEGIN:VEVENT
DTSTART;TZID=Europe/Berlin:20260225T150000
DTEND;TZID=Europe/Berlin:20260225T170000
DTSTAMP:20260421T110421
CREATED:20260215T094245Z
LAST-MODIFIED:20260215T094245Z
UID:1066-1772031600-1772038800@www.schwarz-thorsten.de
SUMMARY:Jahreshauptversammlung Senioren Union Bruchsal
DESCRIPTION:
URL:https://www.schwarz-thorsten.de/event/jahreshauptversammlung-senioren-union-bruchsal/
END:VEVENT
BEGIN:VEVENT
DTSTART;TZID=Europe/Berlin:20260225T170000
DTEND;TZID=Europe/Berlin:20260225T183000
DTSTAMP:20260421T110421
CREATED:20260222T114751Z
LAST-MODIFIED:20260222T114751Z
UID:1094-1772038800-1772044200@www.schwarz-thorsten.de
SUMMARY:Impulse für den Wirtschaftsstandort Baden-Württemberg mit Ministerin Nicole Hofmeister-Kraut MdL
DESCRIPTION:
URL:https://www.schwarz-thorsten.de/event/impulse-fuer-den-wirtschaftsstandort-baden-wuerttemberg-mit-ministerin-nicole-hofmeister-kraut-mdl/
ATTACH;FMTTYPE=image/jpeg:https://www.schwarz-thorsten.de/wp-content/uploads/2026/02/WhatsApp-Image-2026-02-16-at-19.59.45.jpeg
END:VEVENT
BEGIN:VEVENT
DTSTART;TZID=Europe/Berlin:20260226T130000
DTEND;TZID=Europe/Berlin:20260226T150000
DTSTAMP:20260421T110421
CREATED:20260126T075405Z
LAST-MODIFIED:20260215T094210Z
UID:994-1772110800-1772118000@www.schwarz-thorsten.de
SUMMARY:Podiumsdiskussion BNS1
DESCRIPTION:
URL:https://www.schwarz-thorsten.de/event/podiumsdiskussion-bns1/
END:VEVENT
BEGIN:VEVENT
DTSTART;TZID=Europe/Berlin:20260226T163000
DTEND;TZID=Europe/Berlin:20260226T180000
DTSTAMP:20260421T110421
CREATED:20260222T114843Z
LAST-MODIFIED:20260222T114843Z
UID:1098-1772123400-1772128800@www.schwarz-thorsten.de
SUMMARY:Wahlstand Büchenau - Bäckerei Thollembeek
DESCRIPTION:
URL:https://www.schwarz-thorsten.de/event/wahlstand-buechenau-baeckerei-thollembeek/
END:VEVENT
BEGIN:VEVENT
DTSTART;TZID=Europe/Berlin:20260227T110000
DTEND;TZID=Europe/Berlin:20260227T140000
DTSTAMP:20260421T110421
CREATED:20260126T075438Z
LAST-MODIFIED:20260126T075438Z
UID:996-1772190000-1772200800@www.schwarz-thorsten.de
SUMMARY:Marktstand Östringen
DESCRIPTION:
URL:https://www.schwarz-thorsten.de/event/marktstand-oestringen/
END:VEVENT
END:VCALENDAR